BEGIN:VCALENDAR
PRODID:-//1823 Call Centre, Efficiency Unit, HKSAR Government//Hong Kong Public Holidays//EN
VERSION:2.0
CALSCALE:GREGORIAN
X-WR-TIMEZONE:Asia/Hong_Kong
X-WR-CALNAME:香港公眾假期
X-WR-CALDESC:香港公眾假期
BEGIN:VEVENT
DTSTART;VALUE=DATE:20200101
DTEND;VALUE=DATE:20200102
TRANSP:TRANSPARENT
UID:20200101@1823.gov.hk
SUMMARY:一月一日
END:VEVENT
BEGIN:VEVENT
DTSTART;VALUE=DATE:20200125
DTEND;VALUE=DATE:20200126
TRANSP:TRANSPARENT
UID:20200125@1823.gov.hk
SUMMARY:農曆年初一
END:VEVENT
BEGIN:VEVENT
DTSTART;VALUE=DATE:20200127
DTEND;VALUE=DATE:20200128
TRANSP:TRANSPARENT
UID:20200127@1823.gov.hk
SUMMARY:農曆年初三
END:VEVENT
BEGIN:VEVENT
DTSTART;VALUE=DATE:20200128
DTEND;VALUE=DATE:20200129
TRANSP:TRANSPARENT
UID:20200128@1823.gov.hk
SUMMARY:農曆年初四
END:VEVENT
BEGIN:VEVENT
DTSTART;VALUE=DATE:20200404
DTEND;VALUE=DATE:20200405
TRANSP:TRANSPARENT
UID:20200404@1823.gov.hk
SUMMARY:清明節
END:VEVENT
BEGIN:VEVENT
DTSTART;VALUE=DATE:20200410
DTEND;VALUE=DATE:20200411
TRANSP:TRANSPARENT
UID:20200410@1823.gov.hk
SUMMARY:耶穌受難節
END:VEVENT
BEGIN:VEVENT
DTSTART;VALUE=DATE:20200411
DTEND;VALUE=DATE:20200412
TRANSP:TRANSPARENT
UID:20200411@1823.gov.hk
SUMMARY:耶穌受難節翌日
END:VEVENT
BEGIN:VEVENT
DTSTART;VALUE=DATE:20200413
DTEND;VALUE=DATE:20200414
TRANSP:TRANSPARENT
UID:20200413@1823.gov.hk
SUMMARY:復活節星期一
END:VEVENT
BEGIN:VEVENT
DTSTART;VALUE=DATE:20200430
DTEND;VALUE=DATE:20200501
TRANSP:TRANSPARENT
UID:20200430@1823.gov.hk
SUMMARY:佛誕
END:VEVENT
BEGIN:VEVENT
DTSTART;VALUE=DATE:20200501
DTEND;VALUE=DATE:20200502
TRANSP:TRANSPARENT
UID:20200501@1823.gov.hk
SUMMARY:勞動節
END:VEVENT
BEGIN:VEVENT
DTSTART;VALUE=DATE:20200625
DTEND;VALUE=DATE:20200626
TRANSP:TRANSPARENT
UID:20200625@1823.gov.hk
SUMMARY:端午節
END:VEVENT
BEGIN:VEVENT
DTSTART;VALUE=DATE:20200701
DTEND;VALUE=DATE:20200702
TRANSP:TRANSPARENT
UID:20200701@1823.gov.hk
SUMMARY:香港特別行政區成立紀念日
END:VEVENT
BEGIN:VEVENT
DTSTART;VALUE=DATE:20201001
DTEND;VALUE=DATE:20201002
TRANSP:TRANSPARENT
UID:20201001@1823.gov.hk
SUMMARY:國慶日
END:VEVENT
BEGIN:VEVENT
DTSTART;VALUE=DATE:20201002
DTEND;VALUE=DATE:20201003
TRANSP:TRANSPARENT
UID:20201002@1823.gov.hk
SUMMARY:中秋節翌日
END:VEVENT
BEGIN:VEVENT
DTSTART;VALUE=DATE:20201026
DTEND;VALUE=DATE:20201027
TRANSP:TRANSPARENT
UID:20201026@1823.gov.hk
SUMMARY:重陽節翌日
END:VEVENT
BEGIN:VEVENT
DTSTART;VALUE=DATE:20201225
DTEND;VALUE=DATE:20201226
TRANSP:TRANSPARENT
UID:20201225@1823.gov.hk
SUMMARY:聖誕節
END:VEVENT
BEGIN:VEVENT
DTSTART;VALUE=DATE:20201226
DTEND;VALUE=DATE:20201227
TRANSP:TRANSPARENT
UID:20201226@1823.gov.hk
SUMMARY:聖誕節後第一個周日
END:VEVENT
BEGIN:VEVENT
DTSTART;VALUE=DATE:20210101
DTEND;VALUE=DATE:20210102
TRANSP:TRANSPARENT
UID:20210101@1823.gov.hk
SUMMARY:一月一日
END:VEVENT
BEGIN:VEVENT
DTSTART;VALUE=DATE:20210212
DTEND;VALUE=DATE:20210213
TRANSP:TRANSPARENT
UID:20210212@1823.gov.hk
SUMMARY:農曆年初一
END:VEVENT
BEGIN:VEVENT
DTSTART;VALUE=DATE:20210213
DTEND;VALUE=DATE:20210214
TRANSP:TRANSPARENT
UID:20210213@1823.gov.hk
SUMMARY:農曆年初二
END:VEVENT
BEGIN:VEVENT
DTSTART;VALUE=DATE:20210215
DTEND;VALUE=DATE:20210216
TRANSP:TRANSPARENT
UID:20210215@1823.gov.hk
SUMMARY:農曆年初四
END:VEVENT
BEGIN:VEVENT
DTSTART;VALUE=DATE:20210402
DTEND;VALUE=DATE:20210403
TRANSP:TRANSPARENT
UID:20210402@1823.gov.hk
SUMMARY:耶穌受難節
END:VEVENT
BEGIN:VEVENT
DTSTART;VALUE=DATE:20210403
DTEND;VALUE=DATE:20210404
TRANSP:TRANSPARENT
UID:20210403@1823.gov.hk
SUMMARY:耶穌受難節翌日
END:VEVENT
BEGIN:VEVENT
DTSTART;VALUE=DATE:20210405
DTEND;VALUE=DATE:20210406
TRANSP:TRANSPARENT
UID:20210405@1823.gov.hk
SUMMARY:清明節翌日
END:VEVENT
BEGIN:VEVENT
DTSTART;VALUE=DATE:20210406
DTEND;VALUE=DATE:20210407
TRANSP:TRANSPARENT
UID:20210406@1823.gov.hk
SUMMARY:復活節星期一翌日
END:VEVENT
BEGIN:VEVENT
DTSTART;VALUE=DATE:20210501
DTEND;VALUE=DATE:20210502
TRANSP:TRANSPARENT
UID:20210501@1823.gov.hk
SUMMARY:勞動節
END:VEVENT
BEGIN:VEVENT
DTSTART;VALUE=DATE:20210519
DTEND;VALUE=DATE:20210520
TRANSP:TRANSPARENT
UID:20210519@1823.gov.hk
SUMMARY:佛誕
END:VEVENT
BEGIN:VEVENT
DTSTART;VALUE=DATE:20210614
DTEND;VALUE=DATE:20210615
TRANSP:TRANSPARENT
UID:20210614@1823.gov.hk
SUMMARY:端午節
END:VEVENT
BEGIN:VEVENT
DTSTART;VALUE=DATE:20210701
DTEND;VALUE=DATE:20210702
TRANSP:TRANSPARENT
UID:20210701@1823.gov.hk
SUMMARY:香港特別行政區成立紀念日
END:VEVENT
BEGIN:VEVENT
DTSTART;VALUE=DATE:20210922
DTEND;VALUE=DATE:20210923
TRANSP:TRANSPARENT
UID:20210922@1823.gov.hk
SUMMARY:中秋節翌日
END:VEVENT
BEGIN:VEVENT
DTSTART;VALUE=DATE:20211001
DTEND;VALUE=DATE:20211002
TRANSP:TRANSPARENT
UID:20211001@1823.gov.hk
SUMMARY:國慶日
END:VEVENT
BEGIN:VEVENT
DTSTART;VALUE=DATE:20211014
DTEND;VALUE=DATE:20211015
TRANSP:TRANSPARENT
UID:20211014@1823.gov.hk
SUMMARY:重陽節
END:VEVENT
BEGIN:VEVENT
DTSTART;VALUE=DATE:20211225
DTEND;VALUE=DATE:20211226
TRANSP:TRANSPARENT
UID:20211225@1823.gov.hk
SUMMARY:聖誕節
END:VEVENT
BEGIN:VEVENT
DTSTART;VALUE=DATE:20211227
DTEND;VALUE=DATE:20211228
TRANSP:TRANSPARENT
UID:20211227@1823.gov.hk
SUMMARY:聖誕節後第一個周日
END:VEVENT
BEGIN:VEVENT
DTSTART;VALUE=DATE:20220101
DTEND;VALUE=DATE:20220102
TRANSP:TRANSPARENT
UID:20220101@1823.gov.hk
SUMMARY:一月一日
END:VEVENT
BEGIN:VEVENT
DTSTART;VALUE=DATE:20220201
DTEND;VALUE=DATE:20220202
TRANSP:TRANSPARENT
UID:20220201@1823.gov.hk
SUMMARY:農曆年初一
END:VEVENT
BEGIN:VEVENT
DTSTART;VALUE=DATE:20220202
DTEND;VALUE=DATE:20220203
TRANSP:TRANSPARENT
UID:20220202@1823.gov.hk
SUMMARY:農曆年初二
END:VEVENT
BEGIN:VEVENT
DTSTART;VALUE=DATE:20220203
DTEND;VALUE=DATE:20220204
TRANSP:TRANSPARENT
UID:20220203@1823.gov.hk
SUMMARY:農曆年初三
END:VEVENT
BEGIN:VEVENT
DTSTART;VALUE=DATE:20220405
DTEND;VALUE=DATE:20220406
TRANSP:TRANSPARENT
UID:20220405@1823.gov.hk
SUMMARY:清明節
END:VEVENT
BEGIN:VEVENT
DTSTART;VALUE=DATE:20220415
DTEND;VALUE=DATE:20220416
TRANSP:TRANSPARENT
UID:20220415@1823.gov.hk
SUMMARY:耶穌受難節
END:VEVENT
BEGIN:VEVENT
DTSTART;VALUE=DATE:20220416
DTEND;VALUE=DATE:20220417
TRANSP:TRANSPARENT
UID:20220416@1823.gov.hk
SUMMARY:耶穌受難節翌日
END:VEVENT
BEGIN:VEVENT
DTSTART;VALUE=DATE:20220418
DTEND;VALUE=DATE:20220419
TRANSP:TRANSPARENT
UID:20220418@1823.gov.hk
SUMMARY:復活節星期一
END:VEVENT
BEGIN:VEVENT
DTSTART;VALUE=DATE:20220502
DTEND;VALUE=DATE:20220503
TRANSP:TRANSPARENT
UID:20220502@1823.gov.hk
SUMMARY:勞動節翌日
END:VEVENT
BEGIN:VEVENT
DTSTART;VALUE=DATE:20220509
DTEND;VALUE=DATE:20220510
TRANSP:TRANSPARENT
UID:20220509@1823.gov.hk
SUMMARY:佛誕翌日
END:VEVENT
BEGIN:VEVENT
DTSTART;VALUE=DATE:20220603
DTEND;VALUE=DATE:20220604
TRANSP:TRANSPARENT
UID:20220603@1823.gov.hk
SUMMARY:端午節
END:VEVENT
BEGIN:VEVENT
DTSTART;VALUE=DATE:20220701
DTEND;VALUE=DATE:20220702
TRANSP:TRANSPARENT
UID:20220701@1823.gov.hk
SUMMARY:香港特別行政區成立紀念日
END:VEVENT
BEGIN:VEVENT
DTSTART;VALUE=DATE:20220912
DTEND;VALUE=DATE:20220913
TRANSP:TRANSPARENT
UID:20220912@1823.gov.hk
SUMMARY:中秋節後第二日
END:VEVENT
BEGIN:VEVENT
DTSTART;VALUE=DATE:20221001
DTEND;VALUE=DATE:20221002
TRANSP:TRANSPARENT
UID:20221001@1823.gov.hk
SUMMARY:國慶日
END:VEVENT
BEGIN:VEVENT
DTSTART;VALUE=DATE:20221004
DTEND;VALUE=DATE:20221005
TRANSP:TRANSPARENT
UID:20221004@1823.gov.hk
SUMMARY:重陽節
END:VEVENT
BEGIN:VEVENT
DTSTART;VALUE=DATE:20221226
DTEND;VALUE=DATE:20221227
TRANSP:TRANSPARENT
UID:20221226@1823.gov.hk
SUMMARY:聖誕節後第一個周日
END:VEVENT
BEGIN:VEVENT
DTSTART;VALUE=DATE:20221227
DTEND;VALUE=DATE:20221228
TRANSP:TRANSPARENT
UID:20221227@1823.gov.hk
SUMMARY:聖誕節後第二個周日
END:VEVENT
END:VCALENDAR